BEGIN:VCALENDAR
VERSION:2.0
PRODID:-//Volt Europa//Events//EN
CALSCALE:GREGORIAN
METHOD:PUBLISH
BEGIN:VEVENT
UID:weihnachtsmarkt-2025-12-14-1765728000@voltdeutschland.org
DTSTAMP:20260422T041358Z
DTSTART;TZID=Europe/Berlin:20251214T170000
DTEND;TZID=Europe/Berlin:20251214T200000
SUMMARY:Gemeinsamer Besuch des Weihnachtsmarkts
DESCRIPTION:Zur Adventszeit wollen wir gemeinsam den Weihnachtsmarkt in der
  Kulturbrauerei genießen. Komm vorbei für warme Getränke\, warme Gesprä
 che und Lila Herzen. 💜
LOCATION:Weihnachtsmarkt Kulturbrauerei\, Schönhauser Allee 36\, 10435 Ber
 lin
URL:https://voltdeutschland.org/berlin/veranstaltungen/weihnachtsmarkt-2025
 -12-14
END:VEVENT
END:VCALENDAR
