BEGIN:VCALENDAR
VERSION:2.0
PRODID:-//Volt Europa//Events//EN
CALSCALE:GREGORIAN
METHOD:PUBLISH
BEGIN:VEVENT
UID:volttreffer-2026-04-1-1775581200@voltdeutschland.org
DTSTAMP:20260421T101254Z
DTSTART;TZID=Europe/Berlin:20260407T190000
DTEND;TZID=Europe/Berlin:20260407T210000
SUMMARY:Volttreffer im April
DESCRIPTION:Wir freuen uns immer über neue Gesichter\, die Lust haben Volt
  kennenzulernen. Schau‘ einfach bei unserem Volttreffer vorbei: ein ungez
 wungenes Zusammenkommen\, bei dem man sich bei Getränken aller Art kennenl
 ernen kann. Eine Anmeldung ist nicht notwendig! Du hast noch Fragen? Dann m
 elde dich einfach bei community@voltberlin.org. Wir freuen uns auf dich!
LOCATION:Oranienburger Straße 45\, 10117 Berlin
URL:https://voltdeutschland.org/berlin/veranstaltungen/volttreffer-2026-04-
 1
END:VEVENT
END:VCALENDAR
