BEGIN:VCALENDAR
VERSION:2.0
PRODID:-//Volt Europa//Events//EN
CALSCALE:GREGORIAN
METHOD:PUBLISH
BEGIN:VEVENT
UID:volttreffen-neukoelln-sued-ost-2026-04-28-1777392000@voltdeutschland.or
 g
DTSTAMP:20260421T101610Z
DTSTART;TZID=Europe/Berlin:20260428T180000
DTEND;TZID=Europe/Berlin:20260428T200000
SUMMARY:Bezirkstreffen Neukölln/Treptow-Köpenick (Süd-Ost)
DESCRIPTION:Komm zum  Bezirkstreffen Volt Neukölln/Treptow-Köpenick  und 
 tausche dich mit Voltas aus den Bezirken aus.  Eine willkommende Atmosphä
 re und spannende Gespräche warten auf dich. Ob du schon Teil von Volt bist
  oder einfach mal reinschauen willst - unser Treffen ist offen für alle In
 teressierten. 💜 Bitte beachte\, dass du hier keine großen Mahlzeiten\, 
 dafür aber kleine Snacks bestellen kannst. 👉 Schau vorbei\, sag Hallo u
 nd lern uns kennen - wir freuen uns auf dich!
LOCATION:Wolf Kino\, Weserstr. 59\, 12045 Berlin
URL:https://voltdeutschland.org/berlin/veranstaltungen/volttreffen-neukoell
 n-sued-ost-2026-04-28
END:VEVENT
END:VCALENDAR
