BEGIN:VCALENDAR
VERSION:2.0
PRODID:-//Volt Europa//Events//EN
CALSCALE:GREGORIAN
METHOD:PUBLISH
BEGIN:VEVENT
UID:volttreffen-lichtenberg-sued-ost-2025-12-09-1765299600@voltdeutschland.
 org
DTSTAMP:20260422T041709Z
DTSTART;TZID=Europe/Berlin:20251209T180000
DTEND;TZID=Europe/Berlin:20251209T200000
SUMMARY:Bezirkstreffen Lichtenberg/Marzahn-Hellersdorf (Süd-Ost)
DESCRIPTION:Du willst dich politisch einbringen - und dabei nicht auf gutes
  Essen verzichten? Dann komm zu unserem  monatlichen Volt-Treffen im Süd-O
 sten Berlins! Hier treffen sich Engagierte aus der Gegend\, um über politi
 sche Ideen\, lokale Themen und europäische Perspektiven zu sprechen. Ob du
  schon Teil von Volt bist oder einfach mal reinschauen willst - unser Treff
 en ist offen für alle Interessierten. 👉 Schau vorbei\, sag Hallo und le
 rn uns kennen - wir freuen uns auf dich!
LOCATION:Restaurant Thanh Nam\, Alfred-Kowalke-Str. 38\, 10315 Berlin
URL:https://voltdeutschland.org/berlin/veranstaltungen/volttreffen-lichtenb
 erg-sued-ost-2025-12-09
END:VEVENT
END:VCALENDAR
