BEGIN:VCALENDAR
VERSION:2.0
PRODID:-//Volt Europa//Events//EN
CALSCALE:GREGORIAN
METHOD:PUBLISH
BEGIN:VEVENT
UID:standing-together-2024-09-27-1727460000@voltdeutschland.org
DTSTAMP:20260422T173324Z
DTSTART;TZID=Europe/Berlin:20240927T200000
DTEND;TZID=Europe/Berlin:20240927T230000
SUMMARY:Standing Together - Engaging in Dialogue on the Israel/Palestine Co
 nflict
DESCRIPTION:We are excited to invite you to a crucial event that marks a si
 gnificant step in the development of our stances on the Israel/Palestine co
 nflict. Founders of Standing Together\, Alon-Lee Green and Rula Daood\, are
  travelling to Amsterdam in September and we have been given the unique opp
 ortunity to meet them. Standing Together is a progressive grassroots moveme
 nt mobilizing Jewish and Palestinian citizens of Israel against the occupat
 ion and for peace\, equality\, and social justice. As a Jewish Isr
LOCATION:Choriner Straße 34\, 10435 Berlin
URL:https://voltdeutschland.org/berlin/veranstaltungen/standing-together-20
 24-09-27
END:VEVENT
END:VCALENDAR
