BEGIN:VCALENDAR
VERSION:2.0
PRODID:-//Volt Europa//Events//EN
CALSCALE:GREGORIAN
METHOD:PUBLISH
BEGIN:VEVENT
UID:reinickendorf-treffen-2025-12-15-1765818000@voltdeutschland.org
DTSTAMP:20260422T041454Z
DTSTART;TZID=Europe/Berlin:20251215T180000
DTEND;TZID=Europe/Berlin:20251215T210000
SUMMARY:Bezirkstreffen Reinickendorf
DESCRIPTION:Du lebst in Reinickendorf und willst Politik nicht nur konsumie
 ren\, sondern mitgestalten? Dann komm zu unserem  Bezirkstreffen von Volt B
 erlin  – locker\, lokal und offen für alle! 📍  Wo? Trattoria Isola Ve
 rde Gorkistraße 206 13437 Berlin 🕕  Wann? Jeden  dritten Montag im Mona
 t \, um  18 Uhr In entspannter Atmosphäre sprechen wir über Politik vor O
 rt\, neue Ideen für Europa und wie du dich einbringen kannst – ganz ohne
  Parteisprech oder Hürden. 👉 Wenn du dabei sein willst\, gib bitte kurz
  Bescheid a
LOCATION:Restaurant Trattoria Isola Verde\, Gorkistr. 206\, 13437 Berlin
URL:https://voltdeutschland.org/berlin/veranstaltungen/reinickendorf-treffe
 n-2025-12-15
END:VEVENT
END:VCALENDAR
