BEGIN:VCALENDAR
VERSION:2.0
PRODID:-//Volt Europa//Events//EN
CALSCALE:GREGORIAN
METHOD:PUBLISH
BEGIN:VEVENT
UID:mitte-treffen-2025-02-19-1771522200@voltdeutschland.org
DTSTAMP:20260423T194814Z
DTSTART;TZID=Europe/Berlin:20260219T183000
DTEND;TZID=Europe/Berlin:20260219T203000
SUMMARY:Bezirkstreffen Mitte
DESCRIPTION:Du willst Politik neu denken - offen\, pragmatisch und europäi
 sch? Dann komm zu unserem regelmäßigen  Volt-Treffen in Mitte  und bring 
 deine Ideen mit! Ob du einfach mal reinschnuppern oder direkt mitdiskutiere
 n willst - bei uns bist du willkommen. Gemeinsam sprechen wir über Politik
  im Bezirk\, in Berlin und in Europa – mit Raum für deine Fragen und The
 men. 👉 Komm vorbei\, lern uns kennen und werde Teil der Bewegung für ei
 n vereintes Europa – direkt aus dem Herzen Berlins!
LOCATION:Volt Büro\, Choriner Straße 34\, 10435 Berlin
URL:https://voltdeutschland.org/berlin/veranstaltungen/mitte-treffen-2025-0
 2-19
END:VEVENT
END:VCALENDAR
