BEGIN:VCALENDAR
VERSION:2.0
PRODID:-//Volt Europa//Events//EN
CALSCALE:GREGORIAN
METHOD:PUBLISH
BEGIN:VEVENT
UID:meet-the-candidate-treptow-2025-02-11-1-1739815200@voltdeutschland.org
DTSTAMP:20260421T190847Z
DTSTART;TZID=Europe/Berlin:20250217T190000
DTEND;TZID=Europe/Berlin:20250217T210000
SUMMARY:Meet the Candidate (WIP)
DESCRIPTION:Du willst die Menschen hinter Volt kennenlernen? Oder du hast 
 nach längerer Pause Lust auf ein Wiedersehen? Dann komm am Montag\, den 17
 . Februar um 19:00 Uhr zu unserem Meet the Candidate:  Meet Saigon | Franz-
 Ehrlich-Straße 5\, 12489 Berlin Triff unsere engagierten Mitglieder vor Or
 t und diskutiere mit unseren Kandidierenden über lokale\, nationale und eu
 ropäische Politik. Erfahre mehr über Volt und unsere Vision für Europa u
 nd werde Teil unserer wachsenden Gemeinschaft und gestalte die Zukunft E
LOCATION:Meet Saigon | Franz-Ehrlich-Straße 5\, 12489 Berlin
URL:https://voltdeutschland.org/berlin/veranstaltungen/meet-the-candidate-t
 reptow-2025-02-11-1
END:VEVENT
END:VCALENDAR
