BEGIN:VCALENDAR
VERSION:2.0
PRODID:-//Volt Europa//Events//EN
CALSCALE:GREGORIAN
METHOD:PUBLISH
BEGIN:VEVENT
UID:meet-greet-2026-05-30-1780146000@voltdeutschland.org
DTSTAMP:20260421T101348Z
DTSTART;TZID=Europe/Berlin:20260530T150000
DTEND;TZID=Europe/Berlin:20260530T163000
SUMMARY:Meet & Greet
DESCRIPTION:Du willst die Menschen hinter Volt kennenlernen? Oder du hast 
 nach längerer Pause Lust auf ein Wiedersehen? Dann komm am letzten Samstag
  des Monats um 15:00 Uhr zu unserem Meet&Greet im Volt Büro in der Chorine
 r Straße 34\, 10435 Berlin! Triff unsere engagierten Mitglieder vor Ort un
 d diskutiere mit uns über lokale\, nationale und europäische Politik. Erf
 ahre mehr über Volt und unsere Vision für Europa und werde Teil unserer w
 achsenden Gemeinschaft und gestalte die Zukunft Europas mit! Sei dabei u
LOCATION:Volt Berlin\, Choriner Str. 34\, 10435 Berlin
URL:https://voltdeutschland.org/berlin/veranstaltungen/meet-greet-2026-05-3
 0
END:VEVENT
END:VCALENDAR
