BEGIN:VCALENDAR
VERSION:2.0
PRODID:-//Volt Europa//Events//EN
CALSCALE:GREGORIAN
METHOD:PUBLISH
BEGIN:VEVENT
UID:flinta-2026-07-24-1784912400@voltdeutschland.org
DTSTAMP:20260423T194758Z
DTSTART;TZID=Europe/Berlin:20260724T190000
DTEND;TZID=Europe/Berlin:20260724T213000
SUMMARY:FLINTA* Stammtisch
DESCRIPTION:Liebe FLINTA*-Voltis\, lasst uns zusammenkommen – für Vernet
 zung\, Empowerment und einen offenen Austausch! Unser FLINTA*-Stammtisch bi
 etet einen geschützten Raum\, in dem wir uns kennenlernen\, unterstützen 
 und über Herausforderungen innerhalb von Volt sprechen können. Der Stammt
 isch findet jeden 4. Freitag im Monat statt. FLINTA*? Das steht für Frauen
 \, Lesben\, intergeschlechtliche\, nicht-binäre\, trans und agender Person
 en – alle\, die sich weiblich oder als FLINTA* identifizieren\, sind will
 kommen! 
LOCATION:Volt Berlin\, Choriner Str. 34\, 10435 Berlin
URL:https://voltdeutschland.org/berlin/veranstaltungen/flinta-2026-07-24
END:VEVENT
END:VCALENDAR
