BEGIN:VCALENDAR
VERSION:2.0
PRODID:-//Volt Europa//Events//EN
CALSCALE:GREGORIAN
METHOD:PUBLISH
BEGIN:VEVENT
UID:cha-wi-treffen-2026-04-29-1777482000@voltdeutschland.org
DTSTAMP:20260423T194943Z
DTSTART;TZID=Europe/Berlin:20260429T190000
DTEND;TZID=Europe/Berlin:20260429T210000
SUMMARY:Bezirkstreffen Charlottenburg-Wilmersdorf
DESCRIPTION:Einmal im Monat trifft sich Volt Charlottenburg-Wilmersdorf zum
  entspannten Abendessen an unterschiedlichen Orten – und du bist herzlich
  eingeladen! Egal ob Mitglied\, Interessierte oder einfach Lust auf nette L
 eute und gutes Essen\, komm vorbei und hab Spaß mit uns!
LOCATION:Leonhardt Restaurant Café\, Stuttgarter Platz 21\, 10627 Berlin
URL:https://voltdeutschland.org/berlin/veranstaltungen/cha-wi-treffen-2026-
 04-29
END:VEVENT
END:VCALENDAR
