BEGIN:VCALENDAR
VERSION:2.0
PRODID:-//Volt Europa//Events//EN
CALSCALE:GREGORIAN
METHOD:PUBLISH
BEGIN:VEVENT
UID:bezirkstreffen-steglitz-zehlendorf-2026-02-10-1770746400@voltdeutschlan
 d.org
DTSTAMP:20260423T195107Z
DTSTART;TZID=Europe/Berlin:20260210T190000
DTEND;TZID=Europe/Berlin:20260210T213000
SUMMARY:Bezirkstreffen Steglitz-Zehlendorf (Süd-West)
DESCRIPTION:Du wohnst im Bezirksverbund Süd-West und willst Politik anders
  denken - pragmatisch\, progressiv und paneuropäisch? Dann komm zu unserem
  regelmäßigen  Bezirkstreffen von Volt Berlin ! 📍  Wo? Restaurant Enzi
 an\, Enzianstraße 5\, 12203 Berlin 🕖  Wann? Jeden  zweiten Dienstag im 
 Monat \, um  19 Uhr In lockerer Runde besprechen wir aktuelle Themen aus Be
 zirk\, Berlin und Europa. Ob du einfach mal reinschnuppern\, mitdiskutieren
  oder aktiv mitgestalten willst - bei uns bist du willkommen\, ganz unabhä
 ngig v
LOCATION:Restaurant Enzian\, Enzianstr. 5\, 12203 Berlin
URL:https://voltdeutschland.org/berlin/veranstaltungen/bezirkstreffen-stegl
 itz-zehlendorf-2026-02-10
END:VEVENT
END:VCALENDAR
