BEGIN:VCALENDAR
VERSION:2.0
PRODID:-//Volt Europa//Events//EN
CALSCALE:GREGORIAN
METHOD:PUBLISH
BEGIN:VEVENT
UID:wahlkampf-auftakt-kempten-1771061400@voltdeutschland.org
DTSTAMP:20260424T001515Z
DTSTART;TZID=Europe/Berlin:20260214T103000
DTEND;TZID=Europe/Berlin:20260214T160000
SUMMARY:Infoveranstaltung Kempten 14.02.
DESCRIPTION:Volt will in den Stadtrat Kempten und zwar mit Deiner Unterstü
 tzung.  Wir wollen Kempten voranbringen\, Du auch? Komm vorbei\, stell uns 
 Deine Frage\, lerne uns kennen und diskutiere mit.  Wir haben mehr als 360 
 Menschen von unserer Vision für Kempten und Europa überzeugt. Sei auch Du
  ein Unterstützer! Wir freuen uns auf Dich! Kai\, Jenny\, Matthias und Cem
 i
LOCATION:August Fischer Brunnen\, FGZ
URL:https://voltdeutschland.org/bayern/veranstaltungen/wahlkampf-auftakt-ke
 mpten
END:VEVENT
END:VCALENDAR
