BEGIN:VCALENDAR
VERSION:2.0
PRODID:-//Volt Europa//Events//EN
CALSCALE:GREGORIAN
METHOD:PUBLISH
BEGIN:VEVENT
UID:political_debate-1769022000@voltdeutschland.org
DTSTAMP:20260423T132508Z
DTSTART;TZID=Europe/Berlin:20260121T200000
DTEND;TZID=Europe/Berlin:20260121T220000
SUMMARY:Political Debate - Sicherheit um jeden Preis?
DESCRIPTION:Bock auf ehrliche Debatte?  Demokratie – brauchen wir da noc
 h Schutzhelme oder läuft das von allein? Komm vorbei\, misch mit und bring
  deine Meinung mit! Progressiv\, kontrovers\, direkt – so diskutieren wir
  von Volt. Wann:  21. Januar\, 20 Uhr Online: Link für Videoanruf:  https
 ://meet.google.com/kcz-hryj-ajs Oder telefonisch: ‪(DE) +49 40 8081618985
 ‬ PIN: ‪595 448 871‬ Ansprechperson:  Angelika Lukowski  E-Mail:   an
 gelika.lukowski@volteuropa.org
LOCATION:Online
URL:https://voltdeutschland.org/bayern/veranstaltungen/political_debate
END:VEVENT
END:VCALENDAR
