BEGIN:VCALENDAR
VERSION:2.0
PRODID:-//Volt Europa//Events//EN
CALSCALE:GREGORIAN
METHOD:PUBLISH
BEGIN:VEVENT
UID:meet-greet-regensburg-2-1772650800@voltdeutschland.org
DTSTAMP:20260424T001613Z
DTSTART;TZID=Europe/Berlin:20260304T200000
DTEND;TZID=Europe/Berlin:20260304T220000
SUMMARY:Meet & Greet Regensburg
DESCRIPTION:Du hast Lust eine richtige paneuropäische Partei und Bewegung 
 kennenzulernen? Du hast schon mal von Volt gehört und willst wissen\, wer 
 wir eigentlich sind? 💜⁠ Du möchtest wissen\, wie du dich für Europa 
 engagieren kannst? 🥨 Auch die Themen gehen uns nicht aus: Wir freuen uns
 \, Interessent*innen unsere Vision für Europa zu präsentieren und darübe
 r zu reden\, wie es mit Volt weitergeht. Außerdem wird es wie immer ein un
 terhaltsamer Afterwork-Abend bei gutem Essen\, guten Getränken und jede Me
 nge Spaß 
LOCATION:Café Lila\, Rote-Hahnen-Gasse 2\, 93047 Regensburg\, Deutschland
URL:https://voltdeutschland.org/bayern/veranstaltungen/meet-greet-regensbur
 g-2
END:VEVENT
END:VCALENDAR
