BEGIN:VCALENDAR
VERSION:2.0
PRODID:-//Volt Europa//Events//EN
CALSCALE:GREGORIAN
METHOD:PUBLISH
BEGIN:VEVENT
UID:meet-greet-regensburg-1-1773255600@voltdeutschland.org
DTSTAMP:20260423T194959Z
DTSTART;TZID=Europe/Berlin:20260311T200000
DTEND;TZID=Europe/Berlin:20260311T213000
SUMMARY:Meet & Greet Regensburg
DESCRIPTION:Du hast Lust eine richtige paneuropäische Partei und Bewegung 
 kennenzulernen? Du hast schon mal von Volt gehört und willst wissen\, wer 
 wir eigentlich sind? 💜⁠ Du möchtest wissen\, wie du dich für Europa 
 engagieren kannst? 🥨 Auch die Themen gehen uns nicht aus: Wir freuen uns
 \, Interessent*innen unsere Vision für Europa zu präsentieren und darübe
 r zu reden\, wie es mit Regensburg weitergeht. Außerdem wird es wie immer 
 ein unterhaltsamer Afterwork-Abend bei gutem Essen\, guten Getränken und j
 ede Menge
LOCATION:Kolping Haus\, Erhardi Zimmer\, Adolph-Kolping-Str. 1\, 93047 Rege
 nsburg
URL:https://voltdeutschland.org/bayern/veranstaltungen/meet-greet-regensbur
 g-1
END:VEVENT
END:VCALENDAR
