BEGIN:VCALENDAR
VERSION:2.0
PRODID:-//Volt Europa//Events//EN
CALSCALE:GREGORIAN
METHOD:PUBLISH
BEGIN:VEVENT
UID:meet-greet-nuernberg-online-1770404400@voltdeutschland.org
DTSTAMP:20260424T001253Z
DTSTART;TZID=Europe/Berlin:20260206T200000
DTEND;TZID=Europe/Berlin:20260206T210000
SUMMARY:Online Meet & Greet Nürnberg
DESCRIPTION:Link zum Call:   https://meet.google.com/pew-otbr-tqn Du hast L
 ust eine richtige paneuropäische Partei und Bewegung kennenzulernen? Du ha
 st schon mal von Volt gehört und willst wissen\, wer wir eigentlich sind? 
 💜⁠ Du möchtest wissen\, wie du dich für Europa engagieren kannst? 
  Die Themen gehen uns nicht aus: Wir freuen uns\, Interessent*innen unser
 e Vision für Nürnberg zu präsentieren und darüber zu reden\, wie es mit
  Volt weitergeht. Außerdem wird es wie immer eine unterhaltsame Zeit bei g
 utem Ess
LOCATION:Google Meet
URL:https://voltdeutschland.org/bayern/veranstaltungen/meet-greet-nuernberg
 -online
END:VEVENT
END:VCALENDAR
