BEGIN:VCALENDAR
VERSION:2.0
PRODID:-//Volt Europa//Events//EN
CALSCALE:GREGORIAN
METHOD:PUBLISH
BEGIN:VEVENT
UID:meet-greet-lauf-pegnitz-2025-10-15-1760547600@voltdeutschland.org
DTSTAMP:20260421T190722Z
DTSTART;TZID=Europe/Berlin:20251015T190000
DTEND;TZID=Europe/Berlin:20251015T213000
SUMMARY:Meet & Greet Lauf a. d. Pegnitz
DESCRIPTION:Du hast Lust\, eine richtige paneuropäische Bewegung und Parte
 i kennenzulernen? Du hast schon mal von Volt gehört und willst genauer wis
 sen\, wer wir eigentlich sind? 💜⁠ Du möchtest wissen\, wie du dich f
 r Europa oder die Kommunalwahl 2026 engagieren kannst? 🥨 Die Themen geh
 en uns nie aus: Wir freuen uns\, Interessent*innen unsere Vision für Europ
 a zu präsentieren und darüber zu reden\, wie es mit Volt weitergeht. Auß
 erdem wird es wie immer ein unterhaltsamer Afterwork-Abend bei gutem Essen\
 , guten G
LOCATION:Hugo Cafébar\, Altdorfer Str. 14\,  91207 Lauf an der Pegnitz
URL:https://voltdeutschland.org/bayern/veranstaltungen/meet-greet-lauf-pegn
 itz-2025-10-15
END:VEVENT
END:VCALENDAR
