BEGIN:VCALENDAR
VERSION:2.0
PRODID:-//Volt Europa//Events//EN
CALSCALE:GREGORIAN
METHOD:PUBLISH
BEGIN:VEVENT
UID:meet-greet-kempten-1762365600@voltdeutschland.org
DTSTAMP:20260424T211803Z
DTSTART;TZID=Europe/Berlin:20251105T190000
DTEND;TZID=Europe/Berlin:20251105T210000
SUMMARY:Mobilität in Kempten - Probleme und Chancen
DESCRIPTION:Mit den Volt Stadtratskandidat*innen Jenny Schnürch\, Cemile T
 uran und Markus Tesch. Kommt vorbei und diskutiert mit uns\, wie wir unser 
 Kempten und die Mobilität unserer Stadt verbessern können. Du hast schon 
 mal von Volt gehört und willst wissen\, wer wir eigentlich sind? 💜⁠ D
 u möchtest wissen\, wie du dich für Europa und Kempten engagieren kannst?
  🥨 Auch die Themen gehen uns nicht aus: Wir freuen uns\, Interessent*inn
 en unsere Vision für Europa zu präsentieren und darüber zu reden\, wie e
 s mit Volt
LOCATION:Hotel Peterhof\, Salzstraße 1\, 87435 Kempten
URL:https://voltdeutschland.org/bayern/veranstaltungen/meet-greet-kempten
END:VEVENT
END:VCALENDAR
