BEGIN:VCALENDAR
VERSION:2.0
PRODID:-//Volt Europa//Events//EN
CALSCALE:GREGORIAN
METHOD:PUBLISH
BEGIN:VEVENT
UID:meet-greet-kempten-1-1762858800@voltdeutschland.org
DTSTAMP:20260424T211942Z
DTSTART;TZID=Europe/Berlin:20251111T120000
DTEND;TZID=Europe/Berlin:20251111T130000
SUMMARY:Demo Neues Nahverkehrskonzept KEMPTEN
DESCRIPTION:Das neue Nahverkehrskonzept in Kempten wird von vielen Bürgern
  kritisch gesehen. Auch Volt Kempten hat das Bedürfnis\, Handlungsbedarf a
 m neuen Konzept zu signalisieren. Der Partei zufolge seien an vielen Stelle
 n Struktur und Umsetzung nicht konsequent zu Ende gedacht worden. Nach eine
 m konstruktiven Gespräch mit Bürgern der Stadt Kempten am 21. Oktober 202
 5\, an dem auch Volt-Mitglied und langjährige Busfahrerin Jenny Schnürch 
 teilnahm\, ruft Volt Kempten jetzt zu einer gemeinsamen Demo am 11.11.2
LOCATION:Albert-Wehr-Platz\, 87435 Kempten
URL:https://voltdeutschland.org/bayern/veranstaltungen/meet-greet-kempten-1
END:VEVENT
END:VCALENDAR
