BEGIN:VCALENDAR
VERSION:2.0
PRODID:-//Volt Europa//Events//EN
CALSCALE:GREGORIAN
METHOD:PUBLISH
BEGIN:VEVENT
UID:meet-greet-kempten-1-26-1771437600@voltdeutschland.org
DTSTAMP:20260424T175148Z
DTSTART;TZID=Europe/Berlin:20260218T190000
DTEND;TZID=Europe/Berlin:20260218T223000
SUMMARY:Meet & Greet Kempten
DESCRIPTION:Frischer Schwung für Kempten - Triff die Volt Spitzenkandidate
 n
LOCATION:Hotel Peterhof\, Salzstraße 1\, 87435 Kempten (Allgäu)
URL:https://voltdeutschland.org/bayern/veranstaltungen/meet-greet-kempten-1
 -26
END:VEVENT
END:VCALENDAR
