BEGIN:VCALENDAR
VERSION:2.0
PRODID:-//Volt Europa//Events//EN
CALSCALE:GREGORIAN
METHOD:PUBLISH
BEGIN:VEVENT
UID:meet-greet-ingolstadt-4-1778936400@voltdeutschland.org
DTSTAMP:20260422T012415Z
DTSTART;TZID=Europe/Berlin:20260516T150000
DTEND;TZID=Europe/Berlin:20260516T170000
SUMMARY:Meet & Greet Ingolstadt
DESCRIPTION:Du hast Lust eine richtige paneuropäische Partei und Bewegung 
 kennenzulernen? Du hast schon mal von Volt gehört und willst wissen\, wer 
 wir eigentlich sind? 💜⁠ Du möchtest wissen\, wie du dich für Europa 
 engagieren kannst? 🥨 Wir freuen uns\, Interessent*innen unsere Vision f
 r Europa zu präsentieren und darüber zu reden\, wie es mit Volt weiterge
 ht. Außerdem wird es bei guten Getränken und leckerem Essen wie immer ein
  unterhaltsamer Austausch. Wir hoffen daher wieder auf euer zahlreiches Ers
 cheinen.
LOCATION:kiss the kiesch\, Pfarrgasse 8\, 85049 Ingolstadt
URL:https://voltdeutschland.org/bayern/veranstaltungen/meet-greet-ingolstad
 t-4
END:VEVENT
END:VCALENDAR
