BEGIN:VCALENDAR
VERSION:2.0
PRODID:-//Volt Europa//Events//EN
CALSCALE:GREGORIAN
METHOD:PUBLISH
BEGIN:VEVENT
UID:meet-greet-erlangen-2-1-1-1-1781197200@voltdeutschland.org
DTSTAMP:20260422T012229Z
DTSTART;TZID=Europe/Berlin:20260611T190000
DTEND;TZID=Europe/Berlin:20260611T210000
SUMMARY:Meet & Greet Erlangen / ERH
DESCRIPTION:Du hast Lust eine richtige paneuropäische Partei und Bewegung 
 kennenzulernen? Du hast schon mal von Volt gehört und willst wissen\, wer 
 wir eigentlich sind? 💜⁠ Du möchtest wissen\, wie du dich für Europa 
 engagieren kannst? 🥨 Dann komm einfach vorbei\, Anmeldung ist nicht nöt
 ig! Auch die Themen gehen uns nicht aus: Wir freuen uns\, Interessent*innen
  unsere Vision für Europa zu präsentieren und darüber zu reden\, wie es 
 mit Volt weitergeht. Außerdem wird es wie immer eine unterhaltsame Zeit\, 
 bei gutem 
LOCATION:BRASSERIE Nürnberger Str. 3\,  91054 Erlangen
URL:https://voltdeutschland.org/bayern/veranstaltungen/meet-greet-erlangen-
 2-1-1-1
END:VEVENT
END:VCALENDAR
