BEGIN:VCALENDAR
VERSION:2.0
PRODID:-//Volt Europa//Events//EN
CALSCALE:GREGORIAN
METHOD:PUBLISH
BEGIN:VEVENT
UID:meet-greet-eichstaett-2-1776272400@voltdeutschland.org
DTSTAMP:20260422T120558Z
DTSTART;TZID=Europe/Berlin:20260415T190000
DTEND;TZID=Europe/Berlin:20260415T210000
SUMMARY:Meet & Greet Eichstätt
DESCRIPTION:Du hast Lust\, eine richtige paneuropäische Partei und Bewegun
 g kennenzulernen? Du hast schon mal von Volt gehört und willst wissen\, we
 r wir eigentlich sind? 💜⁠ Du möchtest wissen\, wie du dich für Europ
 a engagieren kannst? 🥨 Auch die Themen gehen uns nicht aus: Wir freuen u
 ns\, Interessent*innen unsere Vision für Europa und Eichstätt zu präsent
 ieren und darüber zu reden\, wie es mit Volt weitergeht. Außerdem wird es
  wie immer ein unterhaltsamer Afterwork-Abend bei gutem Essen\, guten Getr
 nken und j
LOCATION:Zum Gutmann\, Am Graben 36\, 85072 Eichstätt
URL:https://voltdeutschland.org/bayern/veranstaltungen/meet-greet-eichstaet
 t-2
END:VEVENT
END:VCALENDAR
