BEGIN:VCALENDAR
VERSION:2.0
PRODID:-//Volt Europa//Events//EN
CALSCALE:GREGORIAN
METHOD:PUBLISH
BEGIN:VEVENT
UID:meet-greet-dachau-1770228000@voltdeutschland.org
DTSTAMP:20260423T194814Z
DTSTART;TZID=Europe/Berlin:20260204T190000
DTEND;TZID=Europe/Berlin:20260204T220000
SUMMARY:Meet & Greet Lichtmess Dachau
DESCRIPTION:Lichtmess ist ein Moment des Übergangs. Traditionell markiert 
 dieser Tag das Ende des Winters und den Beginn eines neuen Abschnitts – e
 in Innehalten zwischen dem\, was war\, und dem\, was kommt. Diese Bedeutung
  greifen wir auf und laden zu unserem Lichtmess-Treffen ein: einem offenen 
  Meet & Greet \, das Raum für Begegnung\, Gespräche und neue Perspektiven
  schafft. Im Mittelpunkt stehen der persönliche Austausch\, kurze inhaltli
 che Impulse und die Möglichkeit\, unsere  Volt-Kandidat*innen für Stadt u
 nd
LOCATION:Drei Rosen\, Münchner Str. 5\, 85221 Dachau
URL:https://voltdeutschland.org/bayern/veranstaltungen/meet-greet-dachau
END:VEVENT
END:VCALENDAR
