BEGIN:VCALENDAR
VERSION:2.0
PRODID:-//Volt Europa//Events//EN
CALSCALE:GREGORIAN
METHOD:PUBLISH
BEGIN:VEVENT
UID:meet-greet-bayreuth-1-1764406800@voltdeutschland.org
DTSTAMP:20260423T044339Z
DTSTART;TZID=Europe/Berlin:20251129T100000
DTEND;TZID=Europe/Berlin:20251129T113000
SUMMARY:Brunch in  Bayreuth - Meet & Greet
DESCRIPTION:Du hast Lust eine richtige paneuropäische Partei und Bewegung 
 kennenzulernen? Du hast schon mal von Volt gehört und willst wissen\, wer 
 wir eigentlich sind? 💜⁠ Du möchtest wissen\, wie du dich für Europa 
 engagieren kannst? 🥨 Auch die Themen gehen uns nicht aus: Wir freuen uns
 \, Interessent*innen unsere Vision für Europa zu präsentieren und darübe
 r zu reden\, wie es mit Volt weitergeht. Außerdem wird es wie immer ein un
 terhaltsamer Austausch bei gutem Essen\, guten Getränken und jede Menge Sp
 aß mit eu
LOCATION:Kraftraum Sophienstr. 16\, 95444 Bayreuth
URL:https://voltdeutschland.org/bayern/veranstaltungen/meet-greet-bayreuth-
 1
END:VEVENT
END:VCALENDAR
