BEGIN:VCALENDAR
VERSION:2.0
PRODID:-//Volt Europa//Events//EN
CALSCALE:GREGORIAN
METHOD:PUBLISH
BEGIN:VEVENT
UID:meet-greet-bamberg-5-1781802000@voltdeutschland.org
DTSTAMP:20260421T101301Z
DTSTART;TZID=Europe/Berlin:20260618T190000
DTEND;TZID=Europe/Berlin:20260618T220000
SUMMARY:Meet & Greet Bamberg
DESCRIPTION:Volt Bamberg lädt Euch herzlich zum nächsten Meet&Greet ein! 
 Wir freuen uns auf das Gespräch mit Euch. Wir sind daran interessiert\, eu
 re Meinung zu unterschiedlichen politischen Themen zu hören und gemeinsam 
 mit euch die Politik der Zukunft in unserer Region\, in Deutschland und in 
 Europa zu gestalten. Kommt und macht mit!
LOCATION:Tambosi\, Promenadenstraße 11\, Bamberg
URL:https://voltdeutschland.org/bayern/veranstaltungen/meet-greet-bamberg-5
END:VEVENT
END:VCALENDAR
