BEGIN:VCALENDAR
VERSION:2.0
PRODID:-//Volt Europa//Events//EN
CALSCALE:GREGORIAN
METHOD:PUBLISH
BEGIN:VEVENT
UID:meet-greet-bamberg-3-1776357000@voltdeutschland.org
DTSTAMP:20260421T100544Z
DTSTART;TZID=Europe/Berlin:20260416T183000
DTEND;TZID=Europe/Berlin:20260516T210000
SUMMARY:Meet & Greet Bamberg
DESCRIPTION:Fränkisch-europäisches Meet & Greet mit den fränkischen Volt
  Stadträten Hans Günter Brünker\, Bamberg\, Eike Krause\, Zirndorf\, Chr
 istian Lamprecht\, Altdorf bei Nürnberg und Matthias Schmidt\, Coburg sowi
 e dem gebürtigen Bayreuther und Kandidaten für das Amt des Co-Präsidente
 n Volt Europa Sven Franck. Und das erwartet euch: Diskussionsrunde in gemü
 tlichem und geselligem Ambiente\, Zeit zum Kennenlernen und Austausch unter
 einander. Außerdem wird Seven sein Programm für Volt Europa vorstellen. W
 ir freu
LOCATION:Scheinbar im Kino Lichtspiel\, Untere Königstraße 34\, Bamberg
URL:https://voltdeutschland.org/bayern/veranstaltungen/meet-greet-bamberg-3
END:VEVENT
END:VCALENDAR
