BEGIN:VCALENDAR
VERSION:2.0
PRODID:-//Volt Europa//Events//EN
CALSCALE:GREGORIAN
METHOD:PUBLISH
BEGIN:VEVENT
UID:meet-greet-augsburg-1-1777570200@voltdeutschland.org
DTSTAMP:20260422T012022Z
DTSTART;TZID=Europe/Berlin:20260430T193000
DTEND;TZID=Europe/Berlin:20260430T210000
SUMMARY:Meet & Greet Augsburg
DESCRIPTION:Du hast Lust\, eine richtige paneuropäische Partei und Bewegun
 g kennenzulernen? Du hast schon mal von Volt gehört und willst wissen\, we
 r wir eigentlich sind? 💜⁠ Du möchtest wissen\, wie du dich für Europ
 a engagieren kannst? 🥨 Auch die Themen gehen uns nicht aus: Wir freuen u
 ns\, Interessent*innen unsere Vision für Europa zu präsentieren und darü
 ber zu reden\, wie es mit Volt weitergeht. Außerdem wird es wie immer ein 
 unterhaltsamer Afterwork-Abend bei gutem Essen\, guten Getränken und jede 
 Menge Spaß
LOCATION:Thalia Kaffeehaus\, Obstmarkt 5\, 86152 Augsburg
URL:https://voltdeutschland.org/bayern/veranstaltungen/meet-greet-augsburg-
 1
END:VEVENT
END:VCALENDAR
