BEGIN:VCALENDAR
VERSION:2.0
PRODID:-//Volt Europa//Events//EN
CALSCALE:GREGORIAN
METHOD:PUBLISH
BEGIN:VEVENT
UID:meet-greet-aschaffenburg-27-06-2026-1782579600@voltdeutschland.org
DTSTAMP:20260422T011905Z
DTSTART;TZID=Europe/Berlin:20260627T190000
DTEND;TZID=Europe/Berlin:20260627T203000
SUMMARY:Meet & Greet Aschaffenburg
DESCRIPTION:Wir treffen uns zum lockeren Austausch und freuen uns darauf\, 
 dich kennenzulernen.  Egal\, ob du schon Volt-Mitglied bist\, uns unterstü
 tzt oder einfach neugierig auf progressive Politik bist - bei uns bist du g
 enau richtig! Was dich erwartet: - Nette Leute aus deiner Region - Spannend
 e Gespräche über unsere Arbeit und Themen - Die Chance\, unser City Team 
 persönlich kennenzulernen - Eine entspannte Atmosphäre zum Netzwerken und
  Ideenaustausch Wir sind eine bunte Truppe und immer offen für neue Ges
LOCATION:Hofgarten Wirtshaus\, Hofgartenstraße 1\, 63739 Aschaffenburg
URL:https://voltdeutschland.org/bayern/veranstaltungen/meet-greet-aschaffen
 burg-27-06-2026
END:VEVENT
END:VCALENDAR
