BEGIN:VCALENDAR
VERSION:2.0
PRODID:-//Volt Europa//Events//EN
CALSCALE:GREGORIAN
METHOD:PUBLISH
BEGIN:VEVENT
UID:meet-greet-altdorf-2026-04-10-1775840400@voltdeutschland.org
DTSTAMP:20260424T224405Z
DTSTART;TZID=Europe/Berlin:20260410T190000
DTEND;TZID=Europe/Berlin:20260410T220000
SUMMARY:Meet & Greet Altdorf bei Nürnberg
DESCRIPTION:Du hast Lust\, eine richtige paneuropäische Bewegung und Parte
 i kennenzulernen? Du hast schon mal von Volt gehört und willst genauer wis
 sen\, wer wir eigentlich sind? 💜⁠ Du möchtest wissen\, wie du dich f
 r Europa engagieren kannst? 🥨 Die Themen gehen uns nie aus: Wir freuen 
 uns\, Interessent*innen unsere Vision für Europa zu präsentieren und dar
 ber zu reden\, wie es mit Volt weitergeht. Außerdem wird es wie immer ein
  unterhaltsamer Afterwork-Abend bei Snacks\, guten Getränken und jede Meng
 e Spaß mit
LOCATION:Bürgertreff\, Obere Wehd 2\, 90518 Altdorf b. Nürnberg
URL:https://voltdeutschland.org/bayern/veranstaltungen/meet-greet-altdorf-2
 026-04-10
END:VEVENT
END:VCALENDAR
