BEGIN:VCALENDAR
VERSION:2.0
PRODID:-//Volt Europa//Events//EN
CALSCALE:GREGORIAN
METHOD:PUBLISH
BEGIN:VEVENT
UID:meet-greet-altdorf-2026-02-03-1770141600@voltdeutschland.org
DTSTAMP:20260421T101505Z
DTSTART;TZID=Europe/Berlin:20260203T190000
DTEND;TZID=Europe/Berlin:20260203T220000
SUMMARY:Meet & Greet Altdorf bei Nürnberg
DESCRIPTION:Afterwork-Drinks und neue Ideen für Altdorf: Komm einfach zum 
 Meet & Greet von Volt und informiere dich über das\, was in Altdorf gerade
  läuft! 🔥 News und Infos aus dem Stadtrat plus neue Ideen plus nette Me
 nschen! Lerne Volt und unsere Ideen für Altdorf kennen! 💜 Du möchtest 
 Altdorf selber mit gestalten? Umso besser\, das ist deine Chance! 🚀 03.0
 2.2026 um 19 Uhr St. Paddy's Irish Pub Silbergasse 4\, Altdorf b. Nürnberg
  Ansprechperson:  Christian Lamprecht E-Mail:   christian.lamprecht@volteur
 opa.o
LOCATION:St. Paddy's Irish Pub\, Silbergasse 4\, 90518 Altdorf b. Nürnberg
URL:https://voltdeutschland.org/bayern/veranstaltungen/meet-greet-altdorf-2
 026-02-03
END:VEVENT
END:VCALENDAR
