BEGIN:VCALENDAR
VERSION:2.0
PRODID:-//Volt Europa//Events//EN
CALSCALE:GREGORIAN
METHOD:PUBLISH
BEGIN:VEVENT
UID:infoveranstaltung-kempten-2401-1770454800@voltdeutschland.org
DTSTAMP:20260423T125113Z
DTSTART;TZID=Europe/Berlin:20260207T100000
DTEND;TZID=Europe/Berlin:20260207T180000
SUMMARY:Infoveranstaltung Kempten 07.02.
DESCRIPTION:Volt will in den Stadtrat Kempten und zwar mit Deiner Unterstü
 tzung.  Wir wollen Kempten voranbringen\, Du auch? Komm vorbei\, stell uns 
 Deine Frage\, lerne uns kennen und diskutiere mit.  Wir haben mehr als 360 
 Menschen von unserer Vision für Kempten und Europa überzeugt. Sei auch Du
  ein Unterstützer! Wir freuen uns auf Dich! Kai\, Jenny\, Matthias und Cem
 i
LOCATION:Klostersteige bei Reischmann
URL:https://voltdeutschland.org/bayern/veranstaltungen/infoveranstaltung-ke
 mpten-2401
END:VEVENT
END:VCALENDAR
