BEGIN:VCALENDAR
VERSION:2.0
PRODID:-//Volt Europa//Events//EN
CALSCALE:GREGORIAN
METHOD:PUBLISH
BEGIN:VEVENT
UID:infostand-1729321200@voltdeutschland.org
DTSTAMP:20260424T174904Z
DTSTART;TZID=Europe/Berlin:20241019T090000
DTEND;TZID=Europe/Berlin:20241019T120100
SUMMARY:Infostand Glinder Markt
DESCRIPTION:Wir sind Samstag\,  von 09.00 bis ca. 12.00 Uhr mit einem Infos
 tand in der Glinder Marktpassage zu finden. Alle die uns schon kennen aber 
 auch alle "Neugierigen" und "Interesstierten" sind herzlich eingeladen bei 
 uns vorbeizuschauen und mit uns zu sprechen. Ihr erkennt uns an Lila\, Beac
 hflag\, Sonnenschirm und jeder Menge Infomaterial....
LOCATION:Glinder Marktpassage
URL:https://voltdeutschland.org/schleswig-holstein/veranstaltungen/infostan
 d
END:VEVENT
END:VCALENDAR
