BEGIN:VCALENDAR
VERSION:2.0
PRODID:-//Volt Europa//Events//EN
CALSCALE:GREGORIAN
METHOD:PUBLISH
BEGIN:VEVENT
UID:infostand-nuernberg-1772269200@voltdeutschland.org
DTSTAMP:20260421T101133Z
DTSTART;TZID=Europe/Berlin:20260228T100000
DTEND;TZID=Europe/Berlin:20260228T180000
SUMMARY:Infostand Nürnberg
DESCRIPTION:Wir sind Volt. Du hast bestimmt schon von uns gehört. Komm ger
 ne bei unserem Infostand vorbei und wir beantworten dir alle deine Fragen z
 u unserem Programm. Finde heraus\, warum Volt einzigartig ist 😉 Komm ein
 fach vorbei und lerne uns kennen! 💜 Ansprechperson:  Franz Höpfl E-Mail
 :   franz.hoepfl@volteuropa.org Ansprechpartner:  Nico Bayer E-Mail:   nico
 .bayer@volteuropa.org
LOCATION:Kreuzung Stadtpark\, Maxfeldstraße\, Wurzelbauerstraße
URL:https://voltdeutschland.org/bayern/veranstaltungen/infostand-nuernberg
END:VEVENT
END:VCALENDAR
