BEGIN:VCALENDAR
VERSION:2.0
PRODID:-//Volt Europa//Events//EN
CALSCALE:GREGORIAN
METHOD:PUBLISH
BEGIN:VEVENT
UID:gespraechstour-durch-zirndorf-25022026-lind-1772042400@voltdeutschland.
 org
DTSTAMP:20260421T101604Z
DTSTART;TZID=Europe/Berlin:20260225T190000
DTEND;TZID=Europe/Berlin:20260225T220000
SUMMARY:Gesprächstour durch Zirndorf - 25.02.2026 Lind - Landgasthof Linde
 r Grube
DESCRIPTION:Wir laden zu unserer Gesprächstour durch Zirndorf ein! Wir mö
 chten mit euch in den Austausch kommen. Ihr wollt etwas mehr von uns erfahr
 en? Super! Wir möchten auch mehr von euch in Erfahrung bringen. Schaut ger
 ne bei einem unserer Termine vorbei: 13.02.2026 in Weiherhof beim Gutzerla 
 19.02.2026 in Wintersdorf beim Ristorante Regina 25.02.2026 in Lind beim La
 ndgasthaus Linder Grube 04.03.2026 in Zirndorf beim Gasthof Bub Startzeit i
 st jeweils 19:00 Uhr. Wir freuen uns auf euch! :)
LOCATION:Lindenstraße 51\, 90513 Zirndorf\, Germany
URL:https://voltdeutschland.org/bayern/veranstaltungen/gespraechstour-durch
 -zirndorf-25022026-lind
END:VEVENT
END:VCALENDAR
