BEGIN:VCALENDAR
VERSION:2.0
PRODID:-//Volt Europa//Events//EN
CALSCALE:GREGORIAN
METHOD:PUBLISH
BEGIN:VEVENT
UID:beilngries-spd-volt-vorstellungs-tour-1770400800@voltdeutschland.org
DTSTAMP:20260424T002429Z
DTSTART;TZID=Europe/Berlin:20260206T190000
DTEND;TZID=Europe/Berlin:20260206T210000
SUMMARY:SPD/VOLT Vorstellungs-Tour: Beilngries
DESCRIPTION:Wir gehen auf Vorstellungstour!  Lerne unsere gemeinsame Liste 
 von SPD und Volt kennen. Unsere Kandidierenden für den Stadtrat Beilngries
  stellen sich und ihr Programm vor.
LOCATION:Braugasthof Schattenhofer\, Hauptstraße 44\, 92339 Beilngries
URL:https://voltdeutschland.org/bayern/veranstaltungen/beilngries-spd-volt-
 vorstellungs-tour
END:VEVENT
END:VCALENDAR
