BEGIN:VCALENDAR
VERSION:2.0
PRODID:-//Volt Europa//Events//EN
CALSCALE:GREGORIAN
METHOD:PUBLISH
BEGIN:VEVENT
UID:beilngries-spd-volt-vorstellungs-tour-wolfsbuch-1770746400@voltdeutschl
 and.org
DTSTAMP:20260424T002353Z
DTSTART;TZID=Europe/Berlin:20260210T190000
DTEND;TZID=Europe/Berlin:20260210T210000
SUMMARY:SPD/VOLT Vorstellungs-Tour: Wolfsbuch
DESCRIPTION:Wir gehen auf Vorstellungstour!  Lerne unsere gemeinsame Liste 
 von SPD und Volt kennen. Unsere Kandidierenden für den Stadtrat Beilngries
  stellen sich und ihr Programm vor.
LOCATION:Gasthaus Schmid Johann\, Dorfplatz 1\, 92339 Beilngries-Wolfsbuch
URL:https://voltdeutschland.org/bayern/veranstaltungen/beilngries-spd-volt-
 vorstellungs-tour-wolfsbuch
END:VEVENT
END:VCALENDAR
