BEGIN:VCALENDAR
VERSION:2.0
PRODID:-//Volt Europa//Events//EN
CALSCALE:GREGORIAN
METHOD:PUBLISH
BEGIN:VEVENT
UID:beilngries-spd-volt-vorstellungs-tour-irfersdorf-1770141600@voltdeutsch
 land.org
DTSTAMP:20260423T195127Z
DTSTART;TZID=Europe/Berlin:20260203T190000
DTEND;TZID=Europe/Berlin:20260203T210000
SUMMARY:SPD/VOLT Vorstellungs-Tour: Irfersdorf
DESCRIPTION:Wir gehen auf Vorstellungstour!  Lerne unsere gemeinsame Liste 
 von SPD und Volt kennen. Unsere Kandidierenden für den Stadtrat Beilngries
  stellen sich und ihr Programm vor.
LOCATION:Schützenverein Almberg Irfersdorf e.V.\, Grampersdorfer Str. 1\, 
 92339 Beilngries
URL:https://voltdeutschland.org/bayern/veranstaltungen/beilngries-spd-volt-
 vorstellungs-tour-irfersdorf
END:VEVENT
END:VCALENDAR
